Package: OTUbase Version: 1.59.0 Command: /Library/Frameworks/R.framework/Resources/bin/R CMD check --install=check:OTUbase.install-out.txt --library=/Library/Frameworks/R.framework/Resources/library --no-vignettes --timings OTUbase_1.59.0.tar.gz StartedAt: 2025-07-18 20:38:23 -0400 (Fri, 18 Jul 2025) EndedAt: 2025-07-18 20:39:58 -0400 (Fri, 18 Jul 2025) EllapsedTime: 95.0 seconds RetCode: 0 Status: OK CheckDir: OTUbase.Rcheck Warnings: 0