Package: OTUbase Version: 1.59.0 Command: rm -rf OTUbase.buildbin-libdir && mkdir OTUbase.buildbin-libdir && /Users/biocbuild/BBS/utils/build-universal.sh OTUbase_1.59.0.tar.gz /Library/Frameworks/R.framework/Resources/bin/R OTUbase.buildbin-libdir StartedAt: 2025-07-18 22:32:25 -0400 (Fri, 18 Jul 2025) EndedAt: 2025-07-18 22:32:40 -0400 (Fri, 18 Jul 2025) EllapsedTime: 14.3 seconds RetCode: 0 Status: OK PackageFile: OTUbase_1.59.0.tgz PackageFileSize: 563.5 KiB