Package: OTUbase Version: 1.59.0 Maintainer: Daniel Beck MaintainerEmail: danlbek at gmail.com git_url: https://git.bioconductor.org/packages/OTUbase git_branch: devel git_last_commit: d1952e1 git_last_commit_date: 2025-04-15 10:00:35 -0400 (Tue, 15 Apr 2025)