Package: OSTA.data Version: 1.1.1 Command: /home/biocbuild/R/R/bin/R CMD INSTALL OSTA.data StartedAt: 2025-07-21 20:30:25 -0000 (Mon, 21 Jul 2025) EndedAt: 2025-07-21 20:30:39 -0000 (Mon, 21 Jul 2025) EllapsedTime: 13.9 seconds RetCode: 0 Status: OK