Package: OSTA.data Version: 1.1.1 Command: /home/biocbuild/R/R/bin/R CMD build --keep-empty-dirs --no-resave-data OSTA.data StartedAt: 2025-07-22 01:43:34 -0000 (Tue, 22 Jul 2025) EndedAt: 2025-07-22 01:44:32 -0000 (Tue, 22 Jul 2025) EllapsedTime: 58.1 seconds RetCode: 1 Status: ERROR PackageFile: None PackageFileSize: NA