Package: OSTA.data Version: 1.1.1 Command: /Library/Frameworks/R.framework/Resources/bin/R CMD INSTALL OSTA.data StartedAt: 2025-07-21 15:11:20 -0400 (Mon, 21 Jul 2025) EndedAt: 2025-07-21 15:11:43 -0400 (Mon, 21 Jul 2025) EllapsedTime: 23.4 seconds RetCode: 0 Status: OK