Package: OSTA.data Version: 1.1.1 Command: /Library/Frameworks/R.framework/Resources/bin/R CMD check --install=check:OSTA.data.install-out.txt --library=/Library/Frameworks/R.framework/Resources/library --no-vignettes --timings OSTA.data_1.1.1.tar.gz StartedAt: 2025-07-21 22:31:27 -0400 (Mon, 21 Jul 2025) EndedAt: 2025-07-21 22:33:21 -0400 (Mon, 21 Jul 2025) EllapsedTime: 113.5 seconds RetCode: 0 Status: OK CheckDir: OSTA.data.Rcheck Warnings: 0