Package: OSTA.data Version: 1.1.1 Command: /Library/Frameworks/R.framework/Resources/bin/R CMD build --keep-empty-dirs --no-resave-data OSTA.data StartedAt: 2025-07-21 17:48:36 -0400 (Mon, 21 Jul 2025) EndedAt: 2025-07-21 17:50:29 -0400 (Mon, 21 Jul 2025) EllapsedTime: 112.7 seconds RetCode: 0 Status: OK PackageFile: OSTA.data_1.1.1.tar.gz PackageFileSize: 296.6 KiB