Package: OSTA.data Version: 1.1.1 Command: rm -rf OSTA.data.buildbin-libdir && mkdir OSTA.data.buildbin-libdir && /Users/biocbuild/BBS/utils/build-universal.sh OSTA.data_1.1.1.tar.gz /Library/Frameworks/R.framework/Resources/bin/R OSTA.data.buildbin-libdir StartedAt: 2025-07-22 01:15:15 -0400 (Tue, 22 Jul 2025) EndedAt: 2025-07-22 01:15:25 -0400 (Tue, 22 Jul 2025) EllapsedTime: 10.5 seconds RetCode: 0 Status: OK PackageFile: OSTA.data_1.1.1.tgz PackageFileSize: 305.5 KiB