Package: OSTA.data Version: 1.1.1 Command: /Library/Frameworks/R.framework/Resources/bin/R CMD INSTALL OSTA.data StartedAt: 2025-07-24 15:15:08 -0400 (Thu, 24 Jul 2025) EndedAt: 2025-07-24 15:15:12 -0400 (Thu, 24 Jul 2025) EllapsedTime: 4.4 seconds RetCode: 0 Status: OK