Package: OSTA.data Version: 1.1.0 Maintainer: Yixing E. Dong MaintainerEmail: estelladong729 at gmail.com git_url: https://git.bioconductor.org/packages/OSTA.data git_branch: devel git_last_commit: 15e045b git_last_commit_date: 2025-04-15 13:48:14 -0400 (Tue, 15 Apr 2025)