Package: OSAT Version: 1.57.0 Command: chmod a+r OSAT -R && F:\biocbuild\bbs-3.22-bioc\R\bin\R.exe CMD build --keep-empty-dirs --no-resave-data OSAT StartedAt: 2025-07-13 20:59:21 -0400 (Sun, 13 Jul 2025) EndedAt: 2025-07-13 21:00:34 -0400 (Sun, 13 Jul 2025) EllapsedTime: 73.2 seconds RetCode: 0 Status: OK PackageFile: OSAT_1.57.0.tar.gz PackageFileSize: 961.9 KiB