Package: OPWeight Version: 1.31.0 Command: /home/biocbuild/R/R/bin/R CMD INSTALL OPWeight StartedAt: 2025-10-13 20:39:52 -0000 (Mon, 13 Oct 2025) EndedAt: 2025-10-13 20:40:52 -0000 (Mon, 13 Oct 2025) EllapsedTime: 60.3 seconds RetCode: 0 Status: OK