Package: OPWeight Version: 1.31.0 Command: /home/biocbuild/R/R/bin/R CMD build --keep-empty-dirs --no-resave-data OPWeight StartedAt: 2025-10-14 02:21:26 -0000 (Tue, 14 Oct 2025) EndedAt: 2025-10-14 02:24:27 -0000 (Tue, 14 Oct 2025) EllapsedTime: 181.2 seconds RetCode: 0 Status: OK PackageFile: OPWeight_1.31.0.tar.gz PackageFileSize: 385.2 KiB