Package: OPWeight Version: 1.31.0 Command: /Library/Frameworks/R.framework/Resources/bin/R CMD check --install=check:OPWeight.install-out.txt --library=/Library/Frameworks/R.framework/Resources/library --no-vignettes --timings OPWeight_1.31.0.tar.gz StartedAt: 2025-07-22 20:38:02 -0400 (Tue, 22 Jul 2025) EndedAt: 2025-07-22 20:38:24 -0400 (Tue, 22 Jul 2025) EllapsedTime: 22.3 seconds RetCode: 0 Status: OK CheckDir: OPWeight.Rcheck Warnings: 0