Package: OPWeight Version: 1.31.0 Command: rm -rf OPWeight.buildbin-libdir && mkdir OPWeight.buildbin-libdir && /Users/biocbuild/BBS/utils/build-universal.sh OPWeight_1.31.0.tar.gz /Library/Frameworks/R.framework/Resources/bin/R OPWeight.buildbin-libdir StartedAt: 2025-07-22 22:34:04 -0400 (Tue, 22 Jul 2025) EndedAt: 2025-07-22 22:34:07 -0400 (Tue, 22 Jul 2025) EllapsedTime: 3.1 seconds RetCode: 0 Status: OK PackageFile: OPWeight_1.31.0.tgz PackageFileSize: 521.9 KiB