Package: OMICsPCA Version: 1.27.0 Command: /home/biocbuild/R/R/bin/R CMD check --install=check:OMICsPCA.install-out.txt --library=/home/biocbuild/R/R/site-library --no-vignettes --timings OMICsPCA_1.27.0.tar.gz StartedAt: 2025-07-08 09:15:08 -0000 (Tue, 08 Jul 2025) EndedAt: 2025-07-08 09:22:42 -0000 (Tue, 08 Jul 2025) EllapsedTime: 453.6 seconds RetCode: 0 Status: OK CheckDir: OMICsPCA.Rcheck Warnings: 0