Package: OMICsPCA Version: 1.27.0 Command: /home/biocbuild/R/R/bin/R CMD build --keep-empty-dirs --no-resave-data OMICsPCA StartedAt: 2025-07-04 01:43:38 -0000 (Fri, 04 Jul 2025) EndedAt: 2025-07-04 01:46:27 -0000 (Fri, 04 Jul 2025) EllapsedTime: 169.1 seconds RetCode: 0 Status: OK PackageFile: OMICsPCA_1.27.0.tar.gz PackageFileSize: 2.415 MiB