Package: OMICsPCA Version: 1.27.0 Command: F:\biocbuild\bbs-3.22-bioc\R\bin\R.exe CMD INSTALL OMICsPCA StartedAt: 2025-07-14 16:50:24 -0400 (Mon, 14 Jul 2025) EndedAt: 2025-07-14 16:51:35 -0400 (Mon, 14 Jul 2025) EllapsedTime: 70.9 seconds RetCode: 0 Status: OK