Package: OMICsPCA Version: 1.27.0 Command: F:\biocbuild\bbs-3.22-bioc\R\bin\R.exe CMD check --no-multiarch --install=check:OMICsPCA.install-out.txt --library=F:\biocbuild\bbs-3.22-bioc\R\library --no-vignettes --timings OMICsPCA_1.27.0.tar.gz StartedAt: 2025-07-18 04:43:10 -0400 (Fri, 18 Jul 2025) EndedAt: 2025-07-18 04:50:48 -0400 (Fri, 18 Jul 2025) EllapsedTime: 457.6 seconds RetCode: 0 Status: OK CheckDir: OMICsPCA.Rcheck Warnings: 0