Package: OMICsPCA Version: 1.27.0 Command: chmod a+r OMICsPCA -R && F:\biocbuild\bbs-3.22-bioc\R\bin\R.exe CMD build --keep-empty-dirs --no-resave-data OMICsPCA StartedAt: 2025-07-14 20:51:40 -0400 (Mon, 14 Jul 2025) EndedAt: 2025-07-14 21:13:46 -0400 (Mon, 14 Jul 2025) EllapsedTime: 1325.8 seconds RetCode: 0 Status: OK PackageFile: OMICsPCA_1.27.0.tar.gz PackageFileSize: 1.62 MiB