Package: OMICsPCA Version: 1.27.0 Command: rm -rf OMICsPCA.buildbin-libdir && mkdir OMICsPCA.buildbin-libdir && F:\biocbuild\bbs-3.22-bioc\R\bin\R.exe CMD INSTALL --build --library=OMICsPCA.buildbin-libdir OMICsPCA_1.27.0.tar.gz StartedAt: 2025-07-15 09:32:02 -0400 (Tue, 15 Jul 2025) EndedAt: 2025-07-15 09:33:15 -0400 (Tue, 15 Jul 2025) EllapsedTime: 72.7 seconds RetCode: 0 Status: OK PackageFile: OMICsPCA_1.27.0.zip PackageFileSize: 1.704 MiB