Package: OLINgui Version: 1.83.0 Command: /home/biocbuild/R/R/bin/R CMD INSTALL OLINgui StartedAt: 2025-07-21 20:24:33 -0000 (Mon, 21 Jul 2025) EndedAt: 2025-07-21 20:24:49 -0000 (Mon, 21 Jul 2025) EllapsedTime: 16.8 seconds RetCode: 0 Status: OK