Package: OLINgui Version: 1.83.0 Command: F:\biocbuild\bbs-3.22-bioc\R\bin\R.exe CMD INSTALL OLINgui StartedAt: 2025-07-22 15:28:34 -0400 (Tue, 22 Jul 2025) EndedAt: 2025-07-22 15:28:44 -0400 (Tue, 22 Jul 2025) EllapsedTime: 9.8 seconds RetCode: 0 Status: OK