Package: OLINgui Version: 1.83.0 Command: /Library/Frameworks/R.framework/Resources/bin/R CMD check --install=check:OLINgui.install-out.txt --library=/Library/Frameworks/R.framework/Resources/library --no-vignettes --timings OLINgui_1.83.0.tar.gz StartedAt: 2025-07-13 20:29:02 -0400 (Sun, 13 Jul 2025) EndedAt: 2025-07-13 20:29:19 -0400 (Sun, 13 Jul 2025) EllapsedTime: 17.2 seconds RetCode: 0 Status: OK CheckDir: OLINgui.Rcheck Warnings: 0