Package: OLIN Version: 1.87.0 Command: F:\biocbuild\bbs-3.22-bioc\R\bin\R.exe CMD check --no-multiarch --install=check:OLIN.install-out.txt --library=F:\biocbuild\bbs-3.22-bioc\R\library --no-vignettes --timings OLIN_1.87.0.tar.gz StartedAt: 2025-07-21 04:47:00 -0400 (Mon, 21 Jul 2025) EndedAt: 2025-07-21 04:48:17 -0400 (Mon, 21 Jul 2025) EllapsedTime: 76.4 seconds RetCode: 0 Status: OK CheckDir: OLIN.Rcheck Warnings: 0