Package: OLIN Version: 1.87.0 Command: chmod a+r OLIN -R && F:\biocbuild\bbs-3.22-bioc\R\bin\R.exe CMD build --keep-empty-dirs --no-resave-data OLIN StartedAt: 2025-07-04 20:48:15 -0400 (Fri, 04 Jul 2025) EndedAt: 2025-07-04 20:49:01 -0400 (Fri, 04 Jul 2025) EllapsedTime: 45.9 seconds RetCode: 0 Status: OK PackageFile: OLIN_1.87.0.tar.gz PackageFileSize: 2.419 MiB