Package: OLIN Version: 1.87.0 Command: rm -rf OLIN.buildbin-libdir && mkdir OLIN.buildbin-libdir && F:\biocbuild\bbs-3.22-bioc\R\bin\R.exe CMD INSTALL --build --library=OLIN.buildbin-libdir OLIN_1.87.0.tar.gz StartedAt: 2025-07-07 09:21:11 -0400 (Mon, 07 Jul 2025) EndedAt: 2025-07-07 09:21:29 -0400 (Mon, 07 Jul 2025) EllapsedTime: 17.7 seconds RetCode: 0 Status: OK PackageFile: OLIN_1.87.0.zip PackageFileSize: 2.59 MiB