Package: OCplus Version: 1.83.0 Command: /Library/Frameworks/R.framework/Resources/bin/R CMD INSTALL OCplus StartedAt: 2025-07-20 15:24:27 -0400 (Sun, 20 Jul 2025) EndedAt: 2025-07-20 15:24:38 -0400 (Sun, 20 Jul 2025) EllapsedTime: 11.7 seconds RetCode: 0 Status: OK