Package: OCplus Version: 1.83.0 Command: /Library/Frameworks/R.framework/Resources/bin/R CMD build --keep-empty-dirs --no-resave-data OCplus StartedAt: 2025-07-20 17:55:20 -0400 (Sun, 20 Jul 2025) EndedAt: 2025-07-20 17:55:52 -0400 (Sun, 20 Jul 2025) EllapsedTime: 31.9 seconds RetCode: 0 Status: OK PackageFile: OCplus_1.83.0.tar.gz PackageFileSize: 9.584 MiB