Package: NuPoP Version: 2.17.0 Command: /home/biocbuild/R/R/bin/R CMD INSTALL NuPoP StartedAt: 2025-10-02 20:17:55 -0000 (Thu, 02 Oct 2025) EndedAt: 2025-10-02 20:18:31 -0000 (Thu, 02 Oct 2025) EllapsedTime: 36.0 seconds RetCode: 0 Status: OK