Package: NuPoP Version: 2.17.0 Command: F:\biocbuild\bbs-3.22-bioc\R\bin\R.exe CMD check --no-multiarch --install=check:NuPoP.install-out.txt --library=F:\biocbuild\bbs-3.22-bioc\R\library --no-vignettes --timings NuPoP_2.17.0.tar.gz StartedAt: 2025-07-08 04:39:43 -0400 (Tue, 08 Jul 2025) EndedAt: 2025-07-08 04:40:32 -0400 (Tue, 08 Jul 2025) EllapsedTime: 49.4 seconds RetCode: 0 Status: OK CheckDir: NuPoP.Rcheck Warnings: 0