Package: NuPoP Version: 2.17.0 Command: chmod a+r NuPoP -R && F:\biocbuild\bbs-3.22-bioc\R\bin\R.exe CMD build --keep-empty-dirs --no-resave-data NuPoP StartedAt: 2025-06-30 20:50:45 -0400 (Mon, 30 Jun 2025) EndedAt: 2025-06-30 20:51:10 -0400 (Mon, 30 Jun 2025) EllapsedTime: 25.2 seconds RetCode: 0 Status: OK PackageFile: NuPoP_2.17.0.tar.gz PackageFileSize: 6.036 MiB