Package: NuPoP Version: 2.17.0 Command: /Library/Frameworks/R.framework/Resources/bin/R CMD check --install=check:NuPoP.install-out.txt --library=/Library/Frameworks/R.framework/Resources/library --no-vignettes --timings NuPoP_2.17.0.tar.gz StartedAt: 2025-06-30 22:09:19 -0400 (Mon, 30 Jun 2025) EndedAt: 2025-06-30 22:09:58 -0400 (Mon, 30 Jun 2025) EllapsedTime: 38.2 seconds RetCode: 0 Status: OK CheckDir: NuPoP.Rcheck Warnings: 0