Package: NuPoP Version: 2.17.0 Command: /Library/Frameworks/R.framework/Resources/bin/R CMD build --keep-empty-dirs --no-resave-data NuPoP StartedAt: 2025-06-30 17:42:39 -0400 (Mon, 30 Jun 2025) EndedAt: 2025-06-30 17:43:02 -0400 (Mon, 30 Jun 2025) EllapsedTime: 22.9 seconds RetCode: 0 Status: OK PackageFile: NuPoP_2.17.0.tar.gz PackageFileSize: 6.133 MiB