Package: NuPoP Version: 2.17.0 Command: rm -rf NuPoP.buildbin-libdir && mkdir NuPoP.buildbin-libdir && /Users/biocbuild/BBS/utils/build-universal.sh NuPoP_2.17.0.tar.gz /Library/Frameworks/R.framework/Resources/bin/R NuPoP.buildbin-libdir StartedAt: 2025-07-01 00:53:12 -0400 (Tue, 01 Jul 2025) EndedAt: 2025-07-01 00:53:36 -0400 (Tue, 01 Jul 2025) EllapsedTime: 23.1 seconds RetCode: 0 Status: OK PackageFile: NuPoP_2.17.0.tgz PackageFileSize: 4.416 MiB