Package: NuPoP Version: 2.17.0 Command: /Library/Frameworks/R.framework/Resources/bin/R CMD INSTALL NuPoP StartedAt: 2025-07-14 15:02:13 -0400 (Mon, 14 Jul 2025) EndedAt: 2025-07-14 15:02:26 -0400 (Mon, 14 Jul 2025) EllapsedTime: 13.5 seconds RetCode: 0 Status: OK