Package: NormalyzerDE Version: 1.27.0 Command: /home/biocbuild/R/R/bin/R CMD INSTALL NormalyzerDE StartedAt: 2025-07-24 21:46:01 -0000 (Thu, 24 Jul 2025) EndedAt: 2025-07-24 21:46:32 -0000 (Thu, 24 Jul 2025) EllapsedTime: 30.5 seconds RetCode: 0 Status: OK