Package: NormalyzerDE Version: 1.27.0 Command: /home/biocbuild/bbs-3.22-bioc/R/bin/R CMD INSTALL NormalyzerDE StartedAt: 2025-07-01 15:36:56 -0400 (Tue, 01 Jul 2025) EndedAt: 2025-07-01 15:37:18 -0400 (Tue, 01 Jul 2025) EllapsedTime: 22.4 seconds RetCode: 0 Status: OK