Package: NormalyzerDE Version: 1.27.0 Command: /home/biocbuild/bbs-3.22-bioc/R/bin/R CMD check --install=check:NormalyzerDE.install-out.txt --library=/home/biocbuild/bbs-3.22-bioc/R/site-library --timings NormalyzerDE_1.27.0.tar.gz StartedAt: 2025-07-02 00:43:15 -0400 (Wed, 02 Jul 2025) EndedAt: 2025-07-02 00:47:31 -0400 (Wed, 02 Jul 2025) EllapsedTime: 256.3 seconds RetCode: 0 Status: WARNINGS CheckDir: NormalyzerDE.Rcheck Warnings: 1