Package: NormalyzerDE Version: 1.27.0 Command: /Library/Frameworks/R.framework/Resources/bin/R CMD check --install=check:NormalyzerDE.install-out.txt --library=/Library/Frameworks/R.framework/Resources/library --no-vignettes --timings NormalyzerDE_1.27.0.tar.gz StartedAt: 2025-07-21 20:34:14 -0400 (Mon, 21 Jul 2025) EndedAt: 2025-07-21 20:35:35 -0400 (Mon, 21 Jul 2025) EllapsedTime: 81.1 seconds RetCode: 0 Status: WARNINGS CheckDir: NormalyzerDE.Rcheck Warnings: 1