Package: NormalyzerDE Version: 1.27.0 Command: rm -rf NormalyzerDE.buildbin-libdir && mkdir NormalyzerDE.buildbin-libdir && /Users/biocbuild/BBS/utils/build-universal.sh NormalyzerDE_1.27.0.tar.gz /Library/Frameworks/R.framework/Resources/bin/R NormalyzerDE.buildbin-libdir StartedAt: 2025-07-20 22:35:03 -0400 (Sun, 20 Jul 2025) EndedAt: 2025-07-20 22:35:13 -0400 (Sun, 20 Jul 2025) EllapsedTime: 10.2 seconds RetCode: 0 Status: OK PackageFile: NormalyzerDE_1.27.0.tgz PackageFileSize: 1.361 MiB