Package: NoRCE Version: 1.21.2 Command: /home/biocbuild/R/R/bin/R CMD INSTALL NoRCE StartedAt: 2025-07-24 21:46:19 -0000 (Thu, 24 Jul 2025) EndedAt: 2025-07-24 21:47:10 -0000 (Thu, 24 Jul 2025) EllapsedTime: 51.1 seconds RetCode: 0 Status: OK