############################################################################## ############################################################################## ### ### Running command: ### ### chmod a+r NoRCE -R && F:\biocbuild\bbs-3.22-bioc\R\bin\R.exe CMD build --keep-empty-dirs --no-resave-data NoRCE ### ############################################################################## ############################################################################## * checking for file 'NoRCE/DESCRIPTION' ... OK * preparing 'NoRCE': * checking DESCRIPTION meta-information ... OK * installing the package to build vignettes ----------------------------------- ERROR: dependency 'zlibbioc' is not available for package 'NoRCE' Perhaps try a variation of: install.packages('zlibbioc') * removing 'F:/biocbuild/bbs-3.22-bioc/tmpdir/Rtmpc384HP/Rinste1b43b47672e/NoRCE' ----------------------------------- ERROR: package installation failed