Package: NoRCE Version: 1.21.0 Command: /home/biocbuild/bbs-3.22-bioc/R/bin/R CMD INSTALL NoRCE StartedAt: 2025-07-21 16:10:34 -0400 (Mon, 21 Jul 2025) EndedAt: 2025-07-21 16:10:34 -0400 (Mon, 21 Jul 2025) EllapsedTime: 0.3 seconds RetCode: 1 Status: ERROR