############################################################################## ############################################################################## ### ### Running command: ### ### /home/biocbuild/bbs-3.22-bioc/R/bin/R CMD INSTALL NoRCE ### ############################################################################## ############################################################################## * installing to library ‘/home/biocbuild/bbs-3.22-bioc/R/site-library’ ERROR: dependency ‘zlibbioc’ is not available for package ‘NoRCE’ Perhaps try a variation of: install.packages('zlibbioc') * removing ‘/home/biocbuild/bbs-3.22-bioc/R/site-library/NoRCE’