Package: NoRCE Version: 1.21.2 Command: rm -rf NoRCE.buildbin-libdir && mkdir NoRCE.buildbin-libdir && /Users/biocbuild/BBS/utils/build-universal.sh NoRCE_1.21.2.tar.gz /Library/Frameworks/R.framework/Resources/bin/R NoRCE.buildbin-libdir StartedAt: 2025-09-28 22:45:07 -0400 (Sun, 28 Sep 2025) EndedAt: 2025-09-28 22:45:24 -0400 (Sun, 28 Sep 2025) EllapsedTime: 17.4 seconds RetCode: 0 Status: OK PackageFile: NoRCE_1.21.2.tgz PackageFileSize: 2.386 MiB