Package: NewWave Version: 1.19.0 Command: /home/biocbuild/R/R/bin/R CMD check --install=check:NewWave.install-out.txt --library=/home/biocbuild/R/R/site-library --no-vignettes --timings NewWave_1.19.0.tar.gz StartedAt: 2025-07-15 10:03:42 -0000 (Tue, 15 Jul 2025) EndedAt: 2025-07-15 10:08:46 -0000 (Tue, 15 Jul 2025) EllapsedTime: 304.6 seconds RetCode: 0 Status: OK CheckDir: NewWave.Rcheck Warnings: 0