Package: NewWave Version: 1.19.0 Command: chmod a+r NewWave -R && F:\biocbuild\bbs-3.22-bioc\R\bin\R.exe CMD build --keep-empty-dirs --no-resave-data NewWave StartedAt: 2025-07-24 20:59:57 -0400 (Thu, 24 Jul 2025) EndedAt: 2025-07-24 21:04:01 -0400 (Thu, 24 Jul 2025) EllapsedTime: 243.3 seconds RetCode: 0 Status: OK PackageFile: NewWave_1.19.0.tar.gz PackageFileSize: 49.65 KiB