Package: NewWave Version: 1.19.0 Command: /Library/Frameworks/R.framework/Resources/bin/R CMD build --keep-empty-dirs --no-resave-data NewWave StartedAt: 2025-07-03 17:49:40 -0400 (Thu, 03 Jul 2025) EndedAt: 2025-07-03 17:51:44 -0400 (Thu, 03 Jul 2025) EllapsedTime: 124.6 seconds RetCode: 0 Status: OK PackageFile: NewWave_1.19.0.tar.gz PackageFileSize: 98.72 KiB